BEGIN:VCALENDAR
VERSION:2.0
PRODID:-//Wasserturm Burg - ECPv6.2.6//NONSGML v1.0//EN
CALSCALE:GREGORIAN
METHOD:PUBLISH
X-ORIGINAL-URL:https://wasserturm-burg.de
X-WR-CALDESC:Veranstaltungen für Wasserturm Burg
REFRESH-INTERVAL;VALUE=DURATION:PT1H
X-Robots-Tag:noindex
X-PUBLISHED-TTL:PT1H
BEGIN:VTIMEZONE
TZID:UTC
BEGIN:STANDARD
TZOFFSETFROM:+0000
TZOFFSETTO:+0000
TZNAME:UTC
DTSTART:20230101T000000
END:STANDARD
END:VTIMEZONE
BEGIN:VEVENT
DTSTART;TZID=UTC:20230520T110000
DTEND;TZID=UTC:20230520T170000
DTSTAMP:20260425T115439
CREATED:20230329T063544Z
LAST-MODIFIED:20230509T143810Z
UID:479-1684580400-1684602000@wasserturm-burg.de
SUMMARY:Weltbienentag - 20.05.2023\, 11-17:00 Uhr
DESCRIPTION:Der Wasserturm Burg e.V. läd am 20. Mai von 11-17:00 Uhr zum Weltbienentag. Neben dem einmaligen Bienenkarussell\, einer Tombola\, Livemusik und der Versorgung des leiblichen Wohls gibt es viele spannende Angebote und Handwerksprodukte zu entdecken & erwerben. 
URL:https://wasserturm-burg.de/event/weltbienentag-20-05-2023-11-17-uhr/
LOCATION:Wasserturm Burg\, Treppengang 2\, 39288 Burg\, Sachsen-Anhalt\, Deutschland
END:VEVENT
END:VCALENDAR