BEGIN:VCALENDAR
VERSION:2.0
PRODID:-//Wasserturm Burg - ECPv6.2.6//NONSGML v1.0//EN
CALSCALE:GREGORIAN
METHOD:PUBLISH
X-WR-CALNAME:Wasserturm Burg
X-ORIGINAL-URL:https://wasserturm-burg.de
X-WR-CALDESC:Veranstaltungen für Wasserturm Burg
REFRESH-INTERVAL;VALUE=DURATION:PT1H
X-Robots-Tag:noindex
X-PUBLISHED-TTL:PT1H
BEGIN:VTIMEZONE
TZID:UTC
BEGIN:STANDARD
TZOFFSETFROM:+0000
TZOFFSETTO:+0000
TZNAME:UTC
DTSTART:20250101T000000
END:STANDARD
END:VTIMEZONE
BEGIN:VEVENT
DTSTART;TZID=UTC:20250420T140000
DTEND;TZID=UTC:20250420T170000
DTSTAMP:20260419T195507
CREATED:20250126T151442Z
LAST-MODIFIED:20250318T115131Z
UID:671-1745157600-1745168400@wasserturm-burg.de
SUMMARY:Ostersonntag am Turm - 20.04.2025\, 14-17:00 Uhr
DESCRIPTION:
URL:https://wasserturm-burg.de/event/ostereiersuche-20-april-2025-14-1700-uhr/
LOCATION:Wasserturm Burg\, Treppengang 2\, 39288 Burg\, Sachsen-Anhalt\, Deutschland
END:VEVENT
END:VCALENDAR