BEGIN:VCALENDAR
VERSION:2.0
PRODID:-//Wasserturm Burg - ECPv6.2.6//NONSGML v1.0//EN
CALSCALE:GREGORIAN
METHOD:PUBLISH
X-ORIGINAL-URL:https://wasserturm-burg.de
X-WR-CALDESC:Veranstaltungen für Wasserturm Burg
REFRESH-INTERVAL;VALUE=DURATION:PT1H
X-Robots-Tag:noindex
X-PUBLISHED-TTL:PT1H
BEGIN:VTIMEZONE
TZID:UTC
BEGIN:STANDARD
TZOFFSETFROM:+0000
TZOFFSETTO:+0000
TZNAME:UTC
DTSTART:20220101T000000
END:STANDARD
END:VTIMEZONE
BEGIN:VEVENT
DTSTART;VALUE=DATE:20221205
DTEND;VALUE=DATE:20221206
DTSTAMP:20260425T161211
CREATED:20221205T221805Z
LAST-MODIFIED:20221205T221805Z
UID:94-1670198400-1670284799@wasserturm-burg.de
SUMMARY:Weihnachtsmarkt 2022
DESCRIPTION:Wohoooo…es ist soweit!
URL:https://wasserturm-burg.de/event/weihnachtsmarkt-2022/
LOCATION:Wasserturm Burg\, Treppengang 2\, 39288 Burg\, Sachsen-Anhalt\, Deutschland
END:VEVENT
END:VCALENDAR