BEGIN:VCALENDAR
VERSION:2.0
PRODID:-//Wasserturm Burg - ECPv6.2.6//NONSGML v1.0//EN
CALSCALE:GREGORIAN
METHOD:PUBLISH
X-WR-CALNAME:Wasserturm Burg
X-ORIGINAL-URL:https://wasserturm-burg.de
X-WR-CALDESC:Veranstaltungen für Wasserturm Burg
REFRESH-INTERVAL;VALUE=DURATION:PT1H
X-Robots-Tag:noindex
X-PUBLISHED-TTL:PT1H
BEGIN:VTIMEZONE
TZID:UTC
BEGIN:STANDARD
TZOFFSETFROM:+0000
TZOFFSETTO:+0000
TZNAME:UTC
DTSTART:20230101T000000
END:STANDARD
END:VTIMEZONE
BEGIN:VEVENT
DTSTART;TZID=UTC:20230928T140000
DTEND;TZID=UTC:20230928T160000
DTSTAMP:20260425T023042
CREATED:20230925T141456Z
LAST-MODIFIED:20230925T141456Z
UID:604-1695909600-1695916800@wasserturm-burg.de
SUMMARY:Integrativer Spielenachmittag - 28.09.2023 - 14:00-16:00 Uhr
DESCRIPTION:
URL:https://wasserturm-burg.de/event/integrativer-spielenachmittag-28-09-2023-1400-1600-uhr/
LOCATION:Wasserturm Burg\, Treppengang 2\, 39288 Burg\, Sachsen-Anhalt\, Deutschland
END:VEVENT
END:VCALENDAR