BEGIN:VCALENDAR
VERSION:2.0
PRODID:-//Wasserturm Burg - ECPv6.2.6//NONSGML v1.0//EN
CALSCALE:GREGORIAN
METHOD:PUBLISH
X-WR-CALNAME:Wasserturm Burg
X-ORIGINAL-URL:https://wasserturm-burg.de
X-WR-CALDESC:Veranstaltungen für Wasserturm Burg
REFRESH-INTERVAL;VALUE=DURATION:PT1H
X-Robots-Tag:noindex
X-PUBLISHED-TTL:PT1H
BEGIN:VTIMEZONE
TZID:UTC
BEGIN:STANDARD
TZOFFSETFROM:+0000
TZOFFSETTO:+0000
TZNAME:UTC
DTSTART:20240101T000000
END:STANDARD
END:VTIMEZONE
BEGIN:VEVENT
DTSTART;TZID=UTC:20241018T170000
DTEND;TZID=UTC:20241018T220000
DTSTAMP:20260424T053643
CREATED:20240131T183126Z
LAST-MODIFIED:20240131T183126Z
UID:634-1729270800-1729288800@wasserturm-burg.de
SUMMARY:Burger Museumsnacht - 18.10.2024\, 17-22:00 Uhr
DESCRIPTION:
URL:https://wasserturm-burg.de/event/burger-museumsnacht-18-10-2024-17-2200-uhr/
LOCATION:Wasserturm Burg\, Treppengang 2\, 39288 Burg\, Sachsen-Anhalt\, Deutschland
END:VEVENT
END:VCALENDAR